BEGIN:VCALENDAR
VERSION:2.0
PRODID:-//GraceLife Church of Paris - ECPv6.15.20//NONSGML v1.0//EN
CALSCALE:GREGORIAN
METHOD:PUBLISH
X-WR-CALNAME:GraceLife Church of Paris
X-ORIGINAL-URL:https://gracelifechurchofparis.org
X-WR-CALDESC:Events for GraceLife Church of Paris
REFRESH-INTERVAL;VALUE=DURATION:PT1H
X-Robots-Tag:noindex
X-PUBLISHED-TTL:PT1H
BEGIN:VTIMEZONE
TZID:America/Chicago
BEGIN:DAYLIGHT
TZOFFSETFROM:-0600
TZOFFSETTO:-0500
TZNAME:CDT
DTSTART:20240310T080000
END:DAYLIGHT
BEGIN:STANDARD
TZOFFSETFROM:-0500
TZOFFSETTO:-0600
TZNAME:CST
DTSTART:20241103T070000
END:STANDARD
BEGIN:DAYLIGHT
TZOFFSETFROM:-0600
TZOFFSETTO:-0500
TZNAME:CDT
DTSTART:20250309T080000
END:DAYLIGHT
BEGIN:STANDARD
TZOFFSETFROM:-0500
TZOFFSETTO:-0600
TZNAME:CST
DTSTART:20251102T070000
END:STANDARD
BEGIN:DAYLIGHT
TZOFFSETFROM:-0600
TZOFFSETTO:-0500
TZNAME:CDT
DTSTART:20260308T080000
END:DAYLIGHT
BEGIN:STANDARD
TZOFFSETFROM:-0500
TZOFFSETTO:-0600
TZNAME:CST
DTSTART:20261101T070000
END:STANDARD
END:VTIMEZONE
BEGIN:VEVENT
DTSTART;TZID=America/Chicago:20250917T173000
DTEND;TZID=America/Chicago:20250917T193000
DTSTAMP:20260423T220348
CREATED:20250315T151428Z
LAST-MODIFIED:20250315T151428Z
UID:3865-1758130200-1758137400@gracelifechurchofparis.org
SUMMARY:Wednesday Midweek Gathering
DESCRIPTION:
URL:https://gracelifechurchofparis.org/event/wednesday-midweek-gathering-14/
LOCATION:Paris Community of Christ\, 1404 Lone Oak Rd\, Paris\, TN\, 38242\, United States
CATEGORIES:Wednesday Midweek Gatherings
END:VEVENT
BEGIN:VEVENT
DTSTART;TZID=America/Chicago:20250910T173000
DTEND;TZID=America/Chicago:20250910T193000
DTSTAMP:20260423T220348
CREATED:20250315T151411Z
LAST-MODIFIED:20250315T151411Z
UID:3863-1757525400-1757532600@gracelifechurchofparis.org
SUMMARY:Wednesday Midweek Gathering
DESCRIPTION:
URL:https://gracelifechurchofparis.org/event/wednesday-midweek-gathering-13/
LOCATION:Paris Community of Christ\, 1404 Lone Oak Rd\, Paris\, TN\, 38242\, United States
CATEGORIES:Wednesday Midweek Gatherings
END:VEVENT
BEGIN:VEVENT
DTSTART;TZID=America/Chicago:20250903T173000
DTEND;TZID=America/Chicago:20250903T193000
DTSTAMP:20260423T220348
CREATED:20250315T151356Z
LAST-MODIFIED:20250315T151356Z
UID:3861-1756920600-1756927800@gracelifechurchofparis.org
SUMMARY:Wednesday Midweek Gathering
DESCRIPTION:
URL:https://gracelifechurchofparis.org/event/wednesday-midweek-gathering-12/
LOCATION:Paris Community of Christ\, 1404 Lone Oak Rd\, Paris\, TN\, 38242\, United States
CATEGORIES:Wednesday Midweek Gatherings
END:VEVENT
BEGIN:VEVENT
DTSTART;TZID=America/Chicago:20250827T173000
DTEND;TZID=America/Chicago:20250827T193000
DTSTAMP:20260423T220348
CREATED:20250315T151340Z
LAST-MODIFIED:20250315T151340Z
UID:3859-1756315800-1756323000@gracelifechurchofparis.org
SUMMARY:Wednesday Midweek Gathering
DESCRIPTION:
URL:https://gracelifechurchofparis.org/event/wednesday-midweek-gathering-11/
LOCATION:Paris Community of Christ\, 1404 Lone Oak Rd\, Paris\, TN\, 38242\, United States
CATEGORIES:Wednesday Midweek Gatherings
END:VEVENT
BEGIN:VEVENT
DTSTART;TZID=America/Chicago:20250820T173000
DTEND;TZID=America/Chicago:20250820T193000
DTSTAMP:20260423T220348
CREATED:20250315T151327Z
LAST-MODIFIED:20250315T151327Z
UID:3857-1755711000-1755718200@gracelifechurchofparis.org
SUMMARY:Wednesday Midweek Gathering
DESCRIPTION:
URL:https://gracelifechurchofparis.org/event/wednesday-midweek-gathering-10/
LOCATION:Paris Community of Christ\, 1404 Lone Oak Rd\, Paris\, TN\, 38242\, United States
CATEGORIES:Wednesday Midweek Gatherings
END:VEVENT
BEGIN:VEVENT
DTSTART;TZID=America/Chicago:20250813T173000
DTEND;TZID=America/Chicago:20250813T193000
DTSTAMP:20260423T220348
CREATED:20250315T151301Z
LAST-MODIFIED:20250315T151301Z
UID:3855-1755106200-1755113400@gracelifechurchofparis.org
SUMMARY:Wednesday Midweek Gathering
DESCRIPTION:
URL:https://gracelifechurchofparis.org/event/wednesday-midweek-gathering-9/
LOCATION:Paris Community of Christ\, 1404 Lone Oak Rd\, Paris\, TN\, 38242\, United States
CATEGORIES:Wednesday Midweek Gatherings
END:VEVENT
BEGIN:VEVENT
DTSTART;TZID=America/Chicago:20250514T173000
DTEND;TZID=America/Chicago:20250514T193000
DTSTAMP:20260423T220348
CREATED:20250315T145414Z
LAST-MODIFIED:20250315T145414Z
UID:3839-1747243800-1747251000@gracelifechurchofparis.org
SUMMARY:Wednesday Midweek Gathering
DESCRIPTION:
URL:https://gracelifechurchofparis.org/event/wednesday-midweek-gathering-8/
LOCATION:Paris Community of Christ\, 1404 Lone Oak Rd\, Paris\, TN\, 38242\, United States
CATEGORIES:Wednesday Midweek Gatherings
END:VEVENT
BEGIN:VEVENT
DTSTART;TZID=America/Chicago:20250507T173000
DTEND;TZID=America/Chicago:20250507T193000
DTSTAMP:20260423T220348
CREATED:20250315T145356Z
LAST-MODIFIED:20250315T145356Z
UID:3837-1746639000-1746646200@gracelifechurchofparis.org
SUMMARY:Wednesday Midweek Gathering
DESCRIPTION:
URL:https://gracelifechurchofparis.org/event/wednesday-midweek-gathering-7/
LOCATION:Paris Community of Christ\, 1404 Lone Oak Rd\, Paris\, TN\, 38242\, United States
CATEGORIES:Wednesday Midweek Gatherings
END:VEVENT
BEGIN:VEVENT
DTSTART;TZID=America/Chicago:20250430T173000
DTEND;TZID=America/Chicago:20250430T193000
DTSTAMP:20260423T220348
CREATED:20250315T145341Z
LAST-MODIFIED:20250315T145341Z
UID:3835-1746034200-1746041400@gracelifechurchofparis.org
SUMMARY:Wednesday Midweek Gathering
DESCRIPTION:
URL:https://gracelifechurchofparis.org/event/wednesday-midweek-gathering-6/
LOCATION:Paris Community of Christ\, 1404 Lone Oak Rd\, Paris\, TN\, 38242\, United States
CATEGORIES:Wednesday Midweek Gatherings
END:VEVENT
BEGIN:VEVENT
DTSTART;TZID=America/Chicago:20250423T173000
DTEND;TZID=America/Chicago:20250423T193000
DTSTAMP:20260423T220348
CREATED:20250315T145326Z
LAST-MODIFIED:20250315T145326Z
UID:3833-1745429400-1745436600@gracelifechurchofparis.org
SUMMARY:Wednesday Midweek Gathering
DESCRIPTION:
URL:https://gracelifechurchofparis.org/event/wednesday-midweek-gathering-5/
LOCATION:Paris Community of Christ\, 1404 Lone Oak Rd\, Paris\, TN\, 38242\, United States
CATEGORIES:Wednesday Midweek Gatherings
END:VEVENT
BEGIN:VEVENT
DTSTART;TZID=America/Chicago:20250416T173000
DTEND;TZID=America/Chicago:20250416T193000
DTSTAMP:20260423T220348
CREATED:20250315T145311Z
LAST-MODIFIED:20250315T145311Z
UID:3831-1744824600-1744831800@gracelifechurchofparis.org
SUMMARY:Wednesday Midweek Gathering
DESCRIPTION:
URL:https://gracelifechurchofparis.org/event/wednesday-midweek-gathering-4/
LOCATION:Paris Community of Christ\, 1404 Lone Oak Rd\, Paris\, TN\, 38242\, United States
CATEGORIES:Wednesday Midweek Gatherings
END:VEVENT
BEGIN:VEVENT
DTSTART;TZID=America/Chicago:20250409T173000
DTEND;TZID=America/Chicago:20250409T193000
DTSTAMP:20260423T220348
CREATED:20250315T145231Z
LAST-MODIFIED:20250315T145231Z
UID:3829-1744219800-1744227000@gracelifechurchofparis.org
SUMMARY:Wednesday Midweek Gathering
DESCRIPTION:
URL:https://gracelifechurchofparis.org/event/wednesday-midweek-gathering-3/
LOCATION:Paris Community of Christ\, 1404 Lone Oak Rd\, Paris\, TN\, 38242\, United States
CATEGORIES:Wednesday Midweek Gatherings
END:VEVENT
BEGIN:VEVENT
DTSTART;TZID=America/Chicago:20250402T173000
DTEND;TZID=America/Chicago:20250402T193000
DTSTAMP:20260423T220348
CREATED:20250315T145215Z
LAST-MODIFIED:20250315T145215Z
UID:3827-1743615000-1743622200@gracelifechurchofparis.org
SUMMARY:Wednesday Midweek Gathering
DESCRIPTION:
URL:https://gracelifechurchofparis.org/event/wednesday-midweek-gathering-2/
LOCATION:Paris Community of Christ\, 1404 Lone Oak Rd\, Paris\, TN\, 38242\, United States
CATEGORIES:Wednesday Midweek Gatherings
END:VEVENT
BEGIN:VEVENT
DTSTART;TZID=America/Chicago:20250319T173000
DTEND;TZID=America/Chicago:20250319T193000
DTSTAMP:20260423T220348
CREATED:20250315T144723Z
LAST-MODIFIED:20250315T144848Z
UID:3821-1742405400-1742412600@gracelifechurchofparis.org
SUMMARY:Wednesday Midweek Gathering
DESCRIPTION:
URL:https://gracelifechurchofparis.org/event/wednesday-midweek-gatherings/
LOCATION:Paris Community of Christ\, 1404 Lone Oak Rd\, Paris\, TN\, 38242\, United States
CATEGORIES:Wednesday Midweek Gatherings
END:VEVENT
END:VCALENDAR