BEGIN:VCALENDAR
VERSION:2.0
PRODID:-//GraceLife Church of Paris - ECPv6.15.20//NONSGML v1.0//EN
CALSCALE:GREGORIAN
METHOD:PUBLISH
X-ORIGINAL-URL:https://gracelifechurchofparis.org
X-WR-CALDESC:Events for GraceLife Church of Paris
REFRESH-INTERVAL;VALUE=DURATION:PT1H
X-Robots-Tag:noindex
X-PUBLISHED-TTL:PT1H
BEGIN:VTIMEZONE
TZID:America/Chicago
BEGIN:DAYLIGHT
TZOFFSETFROM:-0600
TZOFFSETTO:-0500
TZNAME:CDT
DTSTART:20250309T080000
END:DAYLIGHT
BEGIN:STANDARD
TZOFFSETFROM:-0500
TZOFFSETTO:-0600
TZNAME:CST
DTSTART:20251102T070000
END:STANDARD
BEGIN:DAYLIGHT
TZOFFSETFROM:-0600
TZOFFSETTO:-0500
TZNAME:CDT
DTSTART:20260308T080000
END:DAYLIGHT
BEGIN:STANDARD
TZOFFSETFROM:-0500
TZOFFSETTO:-0600
TZNAME:CST
DTSTART:20261101T070000
END:STANDARD
BEGIN:DAYLIGHT
TZOFFSETFROM:-0600
TZOFFSETTO:-0500
TZNAME:CDT
DTSTART:20270314T080000
END:DAYLIGHT
BEGIN:STANDARD
TZOFFSETFROM:-0500
TZOFFSETTO:-0600
TZNAME:CST
DTSTART:20271107T070000
END:STANDARD
END:VTIMEZONE
BEGIN:VEVENT
DTSTART;TZID=America/Chicago:20260107T173000
DTEND;TZID=America/Chicago:20260107T200000
DTSTAMP:20260423T193727
CREATED:20251228T170056Z
LAST-MODIFIED:20251228T170056Z
UID:4041-1767807000-1767816000@gracelifechurchofparis.org
SUMMARY:"Discover GraceLife" Winter Membership Class
DESCRIPTION:
URL:https://gracelifechurchofparis.org/event/discover-gracelife-winter-membership-class/
LOCATION:Ace’s Pizza
END:VEVENT
BEGIN:VEVENT
DTSTART;VALUE=DATE:20260218
DTEND;VALUE=DATE:20260219
DTSTAMP:20260423T193727
CREATED:20260201T164635Z
LAST-MODIFIED:20260201T164635Z
UID:4053-1771372800-1771459199@gracelifechurchofparis.org
SUMMARY:2026 Summer Camps Deposit due date
DESCRIPTION:2026 Crossings Youth & Crossings Kids Summer Camps sign-ups are underway. An $80 deposit per camper is due by Wednesday\, February 18th. Info & sign-up sheets will be available on PT lobby info table. See PJ W. & Chad A. For questions. 
URL:https://gracelifechurchofparis.org/event/2026-summer-camps-deposit-due-date/
END:VEVENT
BEGIN:VEVENT
DTSTART;VALUE=DATE:20260220
DTEND;VALUE=DATE:20260222
DTSTAMP:20260423T193727
CREATED:20251228T165850Z
LAST-MODIFIED:20260201T164343Z
UID:4039-1771545600-1771718399@gracelifechurchofparis.org
SUMMARY:2026 Men's Retreat
DESCRIPTION:
URL:https://gracelifechurchofparis.org/event/2026-mens-retreat/
LOCATION:Camp Clark-Williamson\, 390 Mason Rd\, Humboldt\, 38343\, United States
END:VEVENT
BEGIN:VEVENT
DTSTART;TZID=America/Chicago:20260301T160000
DTEND;TZID=America/Chicago:20260301T170000
DTSTAMP:20260423T193727
CREATED:20260301T164153Z
LAST-MODIFIED:20260301T164153Z
UID:4077-1772380800-1772384400@gracelifechurchofparis.org
SUMMARY:GLCP Staff Meeting
DESCRIPTION:
URL:https://gracelifechurchofparis.org/event/glcp-staff-meeting/
LOCATION:Church Office\, 60 Fairgrounds Rd\, Suite A\, Paris\, TN\, 38242\, United States
END:VEVENT
BEGIN:VEVENT
DTSTART;VALUE=DATE:20260306
DTEND;VALUE=DATE:20260308
DTSTAMP:20260423T193727
CREATED:20251228T165820Z
LAST-MODIFIED:20260201T164233Z
UID:4037-1772755200-1772927999@gracelifechurchofparis.org
SUMMARY:2026 Women's Retreat
DESCRIPTION:
URL:https://gracelifechurchofparis.org/event/2026-womens-retreat/
LOCATION:Camp Clark-Williamson\, 390 Mason Rd\, Humboldt\, 38343\, United States
END:VEVENT
BEGIN:VEVENT
DTSTART;TZID=America/Chicago:20260308T170000
DTEND;TZID=America/Chicago:20260308T190000
DTSTAMP:20260423T193727
CREATED:20260301T163751Z
LAST-MODIFIED:20260301T163751Z
UID:4075-1772989200-1772996400@gracelifechurchofparis.org
SUMMARY:GraceLife Student LifeGroup
DESCRIPTION:GraceLife Student Life Group meets Sunday\, March 8th from 5-7pm at the home of Brian and PJ Wimberley. 
URL:https://gracelifechurchofparis.org/event/gracelife-student-lifegroup/
END:VEVENT
BEGIN:VEVENT
DTSTART;VALUE=DATE:20260313
DTEND;VALUE=DATE:20260315
DTSTAMP:20260423T193727
CREATED:20260301T163545Z
LAST-MODIFIED:20260301T163836Z
UID:4071-1773360000-1773532799@gracelifechurchofparis.org
SUMMARY:D3 Student Conference
DESCRIPTION:D3 Student Conference for all 6th-12th grade students is Friday and Saturday March 13th-14th at Boyce College in Louisville\, KY. All conference fees are due Sunday\, March 8th.
URL:https://gracelifechurchofparis.org/event/d3-student-conference/
LOCATION:Boyce College\, 2825 Lexington Road\, Louisville\, KY\, 40280\, United States
END:VEVENT
BEGIN:VEVENT
DTSTART;TZID=America/Chicago:20260403T183000
DTEND;TZID=America/Chicago:20260403T193000
DTSTAMP:20260423T193727
CREATED:20260322T151010Z
LAST-MODIFIED:20260322T151010Z
UID:4105-1775241000-1775244600@gracelifechurchofparis.org
SUMMARY:Good Friday Service 2026
DESCRIPTION:Join the GLCP family during Holy Week as we share in a Good FRIDAY service Friday\, April 3rd at 6:30pm at Paris Community of Christ\, 1404 Lone Oak Rd\, in Paris\, TN. 
URL:https://gracelifechurchofparis.org/event/good-friday-service-2026/
LOCATION:Paris Community of Christ\, 1404 Lone Oak Rd\, Paris\, TN\, 38242\, United States
END:VEVENT
BEGIN:VEVENT
DTSTART;TZID=America/Chicago:20260412T170000
DTEND;TZID=America/Chicago:20260412T190000
DTSTAMP:20260423T193727
CREATED:20260405T153310Z
LAST-MODIFIED:20260405T153310Z
UID:4122-1776013200-1776020400@gracelifechurchofparis.org
SUMMARY:GraceLife Student LifeGroup
DESCRIPTION:GraceLife Student Life Group meets Sunday\, April 12th from 5-7pm at the home of Brian and PJ Wimberley 
URL:https://gracelifechurchofparis.org/event/gracelife-student-lifegroup-2/
END:VEVENT
BEGIN:VEVENT
DTSTART;VALUE=DATE:20260708
DTEND;VALUE=DATE:20260709
DTSTAMP:20260423T193727
CREATED:20260405T153025Z
LAST-MODIFIED:20260405T153025Z
UID:4114-1783468800-1783555199@gracelifechurchofparis.org
SUMMARY:VBS 2026
DESCRIPTION:VBS 2026 “Words to Live By” – Wednesday & Sunday nights\, July 8th\, 12th\, 15th\, and 19th.
URL:https://gracelifechurchofparis.org/event/vbs-2026/
END:VEVENT
BEGIN:VEVENT
DTSTART;VALUE=DATE:20260712
DTEND;VALUE=DATE:20260713
DTSTAMP:20260423T193727
CREATED:20260405T153046Z
LAST-MODIFIED:20260405T153046Z
UID:4116-1783814400-1783900799@gracelifechurchofparis.org
SUMMARY:VBS 2026
DESCRIPTION:VBS 2026 “Words to Live By” – Wednesday & Sunday nights\, July 8th\, 12th\, 15th\, and 19th.
URL:https://gracelifechurchofparis.org/event/vbs-2026-2/
END:VEVENT
BEGIN:VEVENT
DTSTART;VALUE=DATE:20260715
DTEND;VALUE=DATE:20260716
DTSTAMP:20260423T193727
CREATED:20260405T153109Z
LAST-MODIFIED:20260405T153109Z
UID:4118-1784073600-1784159999@gracelifechurchofparis.org
SUMMARY:VBS 2026
DESCRIPTION:VBS 2026 “Words to Live By” – Wednesday & Sunday nights\, July 8th\, 12th\, 15th\, and 19th.
URL:https://gracelifechurchofparis.org/event/vbs-2026-3/
END:VEVENT
BEGIN:VEVENT
DTSTART;VALUE=DATE:20260719
DTEND;VALUE=DATE:20260720
DTSTAMP:20260423T193727
CREATED:20260405T153129Z
LAST-MODIFIED:20260405T153129Z
UID:4120-1784419200-1784505599@gracelifechurchofparis.org
SUMMARY:VBS 2026
DESCRIPTION:VBS 2026 “Words to Live By” – Wednesday & Sunday nights\, July 8th\, 12th\, 15th\, and 19th.
URL:https://gracelifechurchofparis.org/event/vbs-2026-4/
END:VEVENT
END:VCALENDAR