BEGIN:VCALENDAR
VERSION:2.0
PRODID:-//GraceLife Church of Paris - ECPv6.15.20//NONSGML v1.0//EN
CALSCALE:GREGORIAN
METHOD:PUBLISH
X-ORIGINAL-URL:https://gracelifechurchofparis.org
X-WR-CALDESC:Events for GraceLife Church of Paris
REFRESH-INTERVAL;VALUE=DURATION:PT1H
X-Robots-Tag:noindex
X-PUBLISHED-TTL:PT1H
BEGIN:VTIMEZONE
TZID:America/Chicago
BEGIN:DAYLIGHT
TZOFFSETFROM:-0600
TZOFFSETTO:-0500
TZNAME:CDT
DTSTART:20240310T080000
END:DAYLIGHT
BEGIN:STANDARD
TZOFFSETFROM:-0500
TZOFFSETTO:-0600
TZNAME:CST
DTSTART:20241103T070000
END:STANDARD
BEGIN:DAYLIGHT
TZOFFSETFROM:-0600
TZOFFSETTO:-0500
TZNAME:CDT
DTSTART:20250309T080000
END:DAYLIGHT
BEGIN:STANDARD
TZOFFSETFROM:-0500
TZOFFSETTO:-0600
TZNAME:CST
DTSTART:20251102T070000
END:STANDARD
BEGIN:DAYLIGHT
TZOFFSETFROM:-0600
TZOFFSETTO:-0500
TZNAME:CDT
DTSTART:20260308T080000
END:DAYLIGHT
BEGIN:STANDARD
TZOFFSETFROM:-0500
TZOFFSETTO:-0600
TZNAME:CST
DTSTART:20261101T070000
END:STANDARD
END:VTIMEZONE
BEGIN:VEVENT
DTSTART;TZID=America/Chicago:20250504T160000
DTEND;TZID=America/Chicago:20250504T180000
DTSTAMP:20260424T042132
CREATED:20250315T150625Z
LAST-MODIFIED:20250315T150625Z
UID:3847-1746374400-1746381600@gracelifechurchofparis.org
SUMMARY:Student Spring Breakaway
DESCRIPTION:Join us at Warzone Laser Tag In McKenzie\, Tn for our Student Spring Breakaway. Cost is $15/student. \n 
URL:https://gracelifechurchofparis.org/event/student-spring-breakaway/
LOCATION:Warzone Laser Tag\, 12915 Highway 79\, McKenzie\, TN\, 38201\, United States
END:VEVENT
BEGIN:VEVENT
DTSTART;TZID=America/Chicago:20250507T173000
DTEND;TZID=America/Chicago:20250507T193000
DTSTAMP:20260424T042132
CREATED:20250315T145356Z
LAST-MODIFIED:20250315T145356Z
UID:3837-1746639000-1746646200@gracelifechurchofparis.org
SUMMARY:Wednesday Midweek Gathering
DESCRIPTION:
URL:https://gracelifechurchofparis.org/event/wednesday-midweek-gathering-7/
LOCATION:Paris Community of Christ\, 1404 Lone Oak Rd\, Paris\, TN\, 38242\, United States
CATEGORIES:Wednesday Midweek Gatherings
END:VEVENT
BEGIN:VEVENT
DTSTART;TZID=America/Chicago:20250514T173000
DTEND;TZID=America/Chicago:20250514T193000
DTSTAMP:20260424T042132
CREATED:20250315T145414Z
LAST-MODIFIED:20250315T145414Z
UID:3839-1747243800-1747251000@gracelifechurchofparis.org
SUMMARY:Wednesday Midweek Gathering
DESCRIPTION:
URL:https://gracelifechurchofparis.org/event/wednesday-midweek-gathering-8/
LOCATION:Paris Community of Christ\, 1404 Lone Oak Rd\, Paris\, TN\, 38242\, United States
CATEGORIES:Wednesday Midweek Gatherings
END:VEVENT
BEGIN:VEVENT
DTSTART;TZID=America/Chicago:20250518T153000
DTEND;TZID=America/Chicago:20250518T183000
DTSTAMP:20260424T042132
CREATED:20250315T150939Z
LAST-MODIFIED:20250315T150939Z
UID:3850-1747582200-1747593000@gracelifechurchofparis.org
SUMMARY:Spring Family Fellowship
DESCRIPTION:Join us for our Spring Family Fellowship at the Little Pavilion at Paris Landing State Park. \n 
URL:https://gracelifechurchofparis.org/event/spring-family-fellowship/
LOCATION:Paris Landing State Park\, 16055 Hwy 79 N\, Buchanan\, TN\, 38222\, United States
CATEGORIES:Fellowship
END:VEVENT
BEGIN:VEVENT
DTSTART;TZID=America/Chicago:20250528T174500
DTEND;TZID=America/Chicago:20250528T200000
DTSTAMP:20260424T042132
CREATED:20250518T133949Z
LAST-MODIFIED:20250518T133949Z
UID:3927-1748454300-1748462400@gracelifechurchofparis.org
SUMMARY:VBS 2025 "The Best Good News of All: A Study for Children on the Gospel"
DESCRIPTION:
URL:https://gracelifechurchofparis.org/event/vbs25/
END:VEVENT
END:VCALENDAR