BEGIN:VCALENDAR
VERSION:2.0
PRODID:-//GraceLife Church of Paris - ECPv6.15.20//NONSGML v1.0//EN
CALSCALE:GREGORIAN
METHOD:PUBLISH
X-WR-CALNAME:GraceLife Church of Paris
X-ORIGINAL-URL:https://gracelifechurchofparis.org
X-WR-CALDESC:Events for GraceLife Church of Paris
REFRESH-INTERVAL;VALUE=DURATION:PT1H
X-Robots-Tag:noindex
X-PUBLISHED-TTL:PT1H
BEGIN:VTIMEZONE
TZID:America/Chicago
BEGIN:DAYLIGHT
TZOFFSETFROM:-0600
TZOFFSETTO:-0500
TZNAME:CDT
DTSTART:20240310T080000
END:DAYLIGHT
BEGIN:STANDARD
TZOFFSETFROM:-0500
TZOFFSETTO:-0600
TZNAME:CST
DTSTART:20241103T070000
END:STANDARD
BEGIN:DAYLIGHT
TZOFFSETFROM:-0600
TZOFFSETTO:-0500
TZNAME:CDT
DTSTART:20250309T080000
END:DAYLIGHT
BEGIN:STANDARD
TZOFFSETFROM:-0500
TZOFFSETTO:-0600
TZNAME:CST
DTSTART:20251102T070000
END:STANDARD
BEGIN:DAYLIGHT
TZOFFSETFROM:-0600
TZOFFSETTO:-0500
TZNAME:CDT
DTSTART:20260308T080000
END:DAYLIGHT
BEGIN:STANDARD
TZOFFSETFROM:-0500
TZOFFSETTO:-0600
TZNAME:CST
DTSTART:20261101T070000
END:STANDARD
END:VTIMEZONE
BEGIN:VEVENT
DTSTART;TZID=America/Chicago:20250715T090000
DTEND;TZID=America/Chicago:20250715T170000
DTSTAMP:20260424T004134
CREATED:20250713T154000Z
LAST-MODIFIED:20250713T154000Z
UID:3950-1752570000-1752598800@gracelifechurchofparis.org
SUMMARY:Student Summer Breakaway
DESCRIPTION:Student Summer Breakaway for K-12 students &. Parents is Tuesday\, July 15th @ Venture River Water Park in Eddyville\, KY. We will leave from The Parisian Theatre parking lot @ 9am and return @ 5pm. 
URL:https://gracelifechurchofparis.org/event/student-summer-breakaway/
LOCATION:Venture River\, 280 Funway Dr\, Eddyville\, KY\, 42038\, United States
END:VEVENT
BEGIN:VEVENT
DTSTART;TZID=America/Chicago:20250716T083000
DTEND;TZID=America/Chicago:20250716T120000
DTSTAMP:20260424T004134
CREATED:20250713T154312Z
LAST-MODIFIED:20250713T154312Z
UID:3953-1752654600-1752667200@gracelifechurchofparis.org
SUMMARY:Commodity Distribution
DESCRIPTION:If you can help\, please meet at Central Community Center @ 9am to load supplies & head to Pine Ridge to distribute. 
URL:https://gracelifechurchofparis.org/event/commodity-distribution/
LOCATION:Pine Ridge\, 119 Wesley Dr.\, Paris\, TN\, 38242\, United States
END:VEVENT
END:VCALENDAR