BEGIN:VCALENDAR
VERSION:2.0
PRODID:-//GraceLife Church of Paris - ECPv6.15.20//NONSGML v1.0//EN
CALSCALE:GREGORIAN
METHOD:PUBLISH
X-ORIGINAL-URL:https://gracelifechurchofparis.org
X-WR-CALDESC:Events for GraceLife Church of Paris
REFRESH-INTERVAL;VALUE=DURATION:PT1H
X-Robots-Tag:noindex
X-PUBLISHED-TTL:PT1H
BEGIN:VTIMEZONE
TZID:America/Chicago
BEGIN:DAYLIGHT
TZOFFSETFROM:-0600
TZOFFSETTO:-0500
TZNAME:CDT
DTSTART:20240310T080000
END:DAYLIGHT
BEGIN:STANDARD
TZOFFSETFROM:-0500
TZOFFSETTO:-0600
TZNAME:CST
DTSTART:20241103T070000
END:STANDARD
BEGIN:DAYLIGHT
TZOFFSETFROM:-0600
TZOFFSETTO:-0500
TZNAME:CDT
DTSTART:20250309T080000
END:DAYLIGHT
BEGIN:STANDARD
TZOFFSETFROM:-0500
TZOFFSETTO:-0600
TZNAME:CST
DTSTART:20251102T070000
END:STANDARD
BEGIN:DAYLIGHT
TZOFFSETFROM:-0600
TZOFFSETTO:-0500
TZNAME:CDT
DTSTART:20260308T080000
END:DAYLIGHT
BEGIN:STANDARD
TZOFFSETFROM:-0500
TZOFFSETTO:-0600
TZNAME:CST
DTSTART:20261101T070000
END:STANDARD
END:VTIMEZONE
BEGIN:VEVENT
DTSTART;TZID=America/Chicago:20251001T173000
DTEND;TZID=America/Chicago:20251001T193000
DTSTAMP:20260423T193458
CREATED:20250315T151454Z
LAST-MODIFIED:20250315T151454Z
UID:3869-1759339800-1759347000@gracelifechurchofparis.org
SUMMARY:Wednesday Midweek Gathering
DESCRIPTION:
URL:https://gracelifechurchofparis.org/event/wednesday-midweek-gathering-16/
LOCATION:Paris Community of Christ\, 1404 Lone Oak Rd\, Paris\, TN\, 38242\, United States
CATEGORIES:Wednesday Midweek Gatherings
END:VEVENT
BEGIN:VEVENT
DTSTART;TZID=America/Chicago:20251008T173000
DTEND;TZID=America/Chicago:20251008T193000
DTSTAMP:20260423T193458
CREATED:20250315T151512Z
LAST-MODIFIED:20250315T151512Z
UID:3871-1759944600-1759951800@gracelifechurchofparis.org
SUMMARY:Wednesday Midweek Gathering
DESCRIPTION:
URL:https://gracelifechurchofparis.org/event/wednesday-midweek-gathering-17/
LOCATION:Paris Community of Christ\, 1404 Lone Oak Rd\, Paris\, TN\, 38242\, United States
CATEGORIES:Wednesday Midweek Gatherings
END:VEVENT
BEGIN:VEVENT
DTSTART;TZID=America/Chicago:20251015T173000
DTEND;TZID=America/Chicago:20251015T193000
DTSTAMP:20260423T193458
CREATED:20250315T151530Z
LAST-MODIFIED:20250315T151530Z
UID:3873-1760549400-1760556600@gracelifechurchofparis.org
SUMMARY:Wednesday Midweek Gathering
DESCRIPTION:
URL:https://gracelifechurchofparis.org/event/wednesday-midweek-gathering-18/
LOCATION:Paris Community of Christ\, 1404 Lone Oak Rd\, Paris\, TN\, 38242\, United States
CATEGORIES:Wednesday Midweek Gatherings
END:VEVENT
BEGIN:VEVENT
DTSTART;TZID=America/Chicago:20251022T173000
DTEND;TZID=America/Chicago:20251022T193000
DTSTAMP:20260423T193458
CREATED:20250315T151604Z
LAST-MODIFIED:20250315T151604Z
UID:3875-1761154200-1761161400@gracelifechurchofparis.org
SUMMARY:Wednesday Midweek Gathering
DESCRIPTION:
URL:https://gracelifechurchofparis.org/event/wednesday-midweek-gathering-19/
LOCATION:Paris Community of Christ\, 1404 Lone Oak Rd\, Paris\, TN\, 38242\, United States
CATEGORIES:Wednesday Midweek Gatherings
END:VEVENT
BEGIN:VEVENT
DTSTART;TZID=America/Chicago:20251029T173000
DTEND;TZID=America/Chicago:20251029T193000
DTSTAMP:20260423T193458
CREATED:20250315T151618Z
LAST-MODIFIED:20250315T151618Z
UID:3877-1761759000-1761766200@gracelifechurchofparis.org
SUMMARY:Wednesday Midweek Gathering
DESCRIPTION:
URL:https://gracelifechurchofparis.org/event/wednesday-midweek-gathering-20/
LOCATION:Paris Community of Christ\, 1404 Lone Oak Rd\, Paris\, TN\, 38242\, United States
CATEGORIES:Wednesday Midweek Gatherings
END:VEVENT
END:VCALENDAR